Workbook

Sheet SAŽETAK
A1: Na temelju članka 38. Zakona o proračunu (Narodne novine broj 144/2021) te članka 32. i 45. Statuta Javne vatrogasne postrojbe Zadar, Vatrogasno vijeće Javne vatrogasne postrojbe Zadar, na sjednici održanoj 18. svibnja 2026. godine, usvaja
A3: PRIJEDLOG IZMJENA I DOPUNA FINANCIJSKOG PLANA JAVNE VATROGASNE POSTROJBE ZADAR ZA 2026.GODINU
A5: I. OPĆI DIO
A7: A) SAŽETAK RAČUNA PRIHODA I RASHODA
F9: Izvršenje 2024. | G9: Tekući plan 2025. | H9: Plan za 2026. | I9: Novi plan za 2026. | J9: Indeks novi/izvorni plan
A10: PRIHODI UKUPNO | F10: =F11+F12 -> 4418880.1 | G10: =G11+G12 -> 4851984.5 | H10: =H11+H12 -> 5511500 | I10: =I11+I12 -> 5712344.7 | J10: =+I10/H10*100 -> 103.6441
A11: 6 PRIHODI POSLOVANJA | F11: =+'Prihodi i rashodi prema izvorim'!E6 -> 4418880.1 | G11: 4851784.5 | H11: =+'Prihodi i rashodi prema izvorim'!G6 -> 5511500 | I11: =+'[1] Račun prihoda i rashoda'!E11 -> 5712144.7 | J11: =+I11/H11*100 -> 103.64047
A12: 7 PRIHODI OD PRODAJE NEFINANCIJSKE IMOVINE | F12: =+'Prihodi i rashodi prema izvorim'!E18 -> 0 | G12: 200 | H12: =+'[1] Račun prihoda i rashoda'!D17 -> 0 | I12: =+'[1] Račun prihoda i rashoda'!E17 -> 200 | J12: 0
A13: RASHODI UKUPNO | F13: =F14+F15 -> 4501329.4 | G13: =G14+G15 -> 4931250.3 | H13: =H14+H15 -> 6931500 | I13: =I14+I15 -> 7327252.5 | J13: =+I13/H13*100 -> 105.70948
A14: 3 RASHODI POSLOVANJA | F14: =+'Prihodi i rashodi prema izvorim'!E25 -> 4179713.6 | G14: 4814850.3 | H14: =+'Prihodi i rashodi prema izvorim'!G25 -> 4993500 | I14: =+'[1] Račun prihoda i rashoda'!E27 -> 5336252.5 | J14: =+I14/H14*100 -> 106.86397
A15: 4 RASHODI ZA NABAVU NEFINANCIJSKE IMOVINE | F15: =+'Prihodi i rashodi prema izvorim'!E43 -> 321615.8 | G15: 116400 | H15: =+'Prihodi i rashodi prema izvorim'!G43 -> 1938000 | I15: =+'[1] Račun prihoda i rashoda'!E32 -> 1991000 | J15: =+I15/H15*100 -> 102.73478
A16: RAZLIKA - VIŠAK / MANJAK | F16: =F10-F13 -> -82449.27 | G16: =G10-G13 -> -79265.81 | H16: =H10-H13 -> -1420000 | I16: =I10-I13 -> -1614907.8 | J16: =+I16/H16*100 -> 113.7259
A18: B) SAŽETAK RAČUNA FINANCIRANJA
F20: Izvršenje 2024. | G20: Tekući plan 2025. | H20: Plan za 2026. | I20: Novi plan za 2026. | J20: Indeks novi/izvorni plan
A21: 8 PRIMICI OD FINANCIJSKE IMOVINE I ZADUŽIVANJA | H21: =+'POSEBNI DIO'!G86 -> 1800000 | I21: =+'POSEBNI DIO'!H14 -> 1800000 | J21: =+I21/H21*100 -> 100
A22: 5 IZDACI ZA FINANCIJSKU IMOVINU I OTPLATE ZAJMOVA | H22: =+'POSEBNI DIO'!G36 -> 0 | I22: 0 | J22: 0
A23: NETO FINANCIRANJE | F23: =F21-F22 -> 0 | G23: =G21-G22 -> 0 | H23: =H21-H22 -> 1800000 | I23: =I21-I22 -> 1800000 | J23: =+I23/H23*100 -> 100
A24: VIŠAK / MANJAK + NETO FINANCIRANJE | F24: 0 | G24: 0 | H24: =+H16+H23 -> 380000 | I24: =+I16+I23 -> 185092.21 | J24: =+I24/H24*100 -> 48.708476
A26: C) PRENESENI VIŠAK ILI PRENESENI MANJAK
F28: Izvršenje 2024. | G28: Tekući plan 2025. | H28: Plan za 2026. | I28: Novi plan za 2026. | J28: Indeks novi/izvorni plan
A29: PRIJENOS VIŠKA / MANJKA IZ PRETHODNE(IH) GODINE | F29: 161715.08 | G29: 81230.3 | H29: 0 | I29: 181456.48 | J29: 0
A30: PRIJENOS MANJKA U SLJEDEĆE RAZDOBLJE | G30: -1964.49 | H30: -380000 | I30: -366548.69 | J30: =+I30/H30*100 -> 96.460182
A31: PRIJENOS VIŠKA U SLJEDEĆE RAZDOBLJE | F31: 79265.81 | G31: =+G29+G30 -> 79265.81 | H31: 0 | I31: =+I29+I30 -> -185092.21 | J31: 0
A32: VIŠAK / MANJAK + NETO FINANCIRANJE + PRIJENOS VIŠKA / MANJKA IZ PRETHODNE(IH) GODINE - PRIJENOS VIŠKA / MANJKA U SLJEDEĆE RAZDOBLJE | F32: =+F31 -> 79265.81 | G32: =+G16+G31 -> 4.0745363e-10 | H32: =+H24+H30 -> 0 | I32: =+I24+I29+I30 -> 0 | J32: 0
A34: D) VIŠEGODIŠNJI PLAN URAVNOTEŽENJA
F36: Izvršenje 2024. | G36: Tekući plan 2025. | H36: Plan za 2026. | I36: Novi plan za 2026. | J36: Indeks novi/izvorni plan
A37: PRIJENOS VIŠKA / MANJKA IZ PRETHODNE(IH) GODINE | F37: 0 | G37: =F40 -> 0 | H37: =G40 -> 0 | J37: =H40 -> 0
A38: VIŠAK / MANJAK IZ PRETHODNE(IH) GODINE KOJI ĆE SE RASPOREDITI / POKRITI | F38: 0 | G38: 0 | H38: 0 | J38: 0
A39: VIŠAK / MANJAK TEKUĆE GODINE | F39: 0 | G39: 0 | H39: 0 | J39: 0
A40: PRIJENOS VIŠKA / MANJKA U SLJEDEĆE RAZDOBLJE | F40: =F37-F38+F39 -> 0 | G40: =G37-G38+G39 -> 0 | H40: =H37-H38+H39 -> 0 | J40: =J37-J38+J39 -> 0

Sheet Prihodi i rashodi prema izvorim
A1: PRIJEDLOG IZMJENA I DOPUNA FINANCIJSKOG PLANA JAVNE VATROGASNE POSTROJBE ZADAR ZA 2026.GODINU
A2: I. OPĆI DIO
A3: A. RAČUN PRIHODA I RASHODA
A4: PRIHODI POSLOVANJA PREMA IZVORIMA FINANCIRANJA
A5: Razred | B5: Skupina | C5: Izvor | D5: Naziv prihoda | E5: Izvršenje 2024. | F5: Plan 2025. | G5: Plan za 2026. | H5: Novi plan za 2026. | I5: Indeks novi/izvorni plan
A6: 6 | D6: PRIHODI POSLOVANJA | E6: =+E7+E9+E11+E14+E16 -> 4418880.1 | F6: =+F7+F9+F11+F14+F16 -> 4851784.5 | G6: =+G7+G9+G11+G14+G16 -> 5511500 | H6: =+H7+H9+H11+H14+H16 -> 5712144.7 | I6: =+H6/G6*100 -> 103.64047
B7: 63 | D7: Pomoći iz inozemstva i od subjekata unutar općeg proračuna | E7: =+E8 -> 1015.45 | F7: =+F8 -> 2500 | G7: =+G8 -> 1500 | H7: =+H8 -> 1500 | I7: =+H7/G7*100 -> 100
C8: 50 | D8: Pomoći | E8: 1015.45 | F8: =+F36 -> 2500 | G8: =+G36 -> 1500 | H8: =+H36 -> 1500 | I8: =+H8/G8*100 -> 100
B9: 65 | D9: Prihodi od upravnih i administrativnih pristojbi, pristojbi po posebnim propisima i naknada | E9: =+E10 -> 29051.27 | F9: =+F10 -> 10000 | G9: =+G10 -> 10000 | H9: =+H10 -> 18000 | I9: =+H9/G9*100 -> 180
C10: 41 | D10: Prihodi za posebne namjene | E10: 29051.27 | F10: =+F35 -> 10000 | G10: =+G35 -> 10000 | H10: =+H35 -> 18000 | I10: =+H10/G10*100 -> 180
B11: 66 | D11: Prihodi od prodaje proizvoda i robe te pruženih usluga,prihodi od donacija te povrati po protestiranim jamstvima | E11: =+E12+E13 -> 214642.07 | F11: =+F12+F13 -> 270000 | G11: =+G12+G13 -> 370000 | H11: =+H12+H13 -> 380000 | I11: =+H11/G11*100 -> 102.7027
C12: 31 | D12: Vlastiti prihodi | E12: 184467.07 | F12: 250000 | G12: =+'POSEBNI DIO'!G40+'POSEBNI DIO'!G41+'POSEBNI DIO'!G65 -> 270000 | H12: =+'POSEBNI DIO'!H9-H17 -> 280000 | I12: =+H12/G12*100 -> 103.7037
C13: 6103 | D13: Donacije | E13: 30175 | F13: 20000 | G13: =+'POSEBNI DIO'!G73 -> 100000 | H13: =+'POSEBNI DIO'!H73 -> 100000 | I13: =+H13/G13*100 -> 100
B14: 67 | D14: Prihodi iz nadležnog proračuna i od HZZO-a temeljem ugovornih obveza | E14: =+E15 -> 4173109.6 | F14: =+F15 -> 4569284.5 | G14: =+G15 -> 5130000 | H14: =+H15 -> 5312324.7 | I14: =+H14/G14*100 -> 103.55409
C15: 11 | D15: Opći prihodi i primici | E15: 4173109.6 | F15: 4569284.5 | G15: =+'POSEBNI DIO'!G19+'POSEBNI DIO'!G23+'POSEBNI DIO'!G27+'POSEBNI DIO'!G31+380000 -> 5130000 | H15: =+'POSEBNI DIO'!H8+366548.69 -> 5312324.7 | I15: =+H15/G15*100 -> 103.55409
B16: 68 | D16: Kazne, upravne mjere i ostali prihodi | E16: =+E17 -> 1061.76 | F16: =+F17 -> 0 | G16: =+G17 -> 0 | H16: =+H17 -> 320 | I16: 0
C17: 31 | D17: Vlastiti prihodi | E17: 1061.76 | F17: 0 | G17: 0 | H17: 320 | I17: 0
A18: 7 | D18: PRIHODI OD PRODAJE NEFINANCIJSKE IMOVINE | E18: =+E19 -> 0 | F18: =+F19 -> 200 | G18: =+G19 -> 0 | H18: =+H19 -> 200 | I18: 0
B19: 72 | D19: Prihodi od prodaje proizvedene dugotrajne imovine | E19: =+E20 -> 0 | F19: =+F20 -> 200 | G19: =+G20 -> 0 | H19: =+H20 -> 200 | I19: 0
C20: 72 | D20: Prihodi od prodaje nefinancijske imovine | E20: 0 | F20: 200 | G20: =+'POSEBNI DIO'!G82 -> 0 | H20: =+'POSEBNI DIO'!H13 -> 200 | I20: 0
A21: Ukupno prihodi | E21: =+E6+E18 -> 4418880.1 | F21: =+F6+F18 -> 4851984.5 | G21: =+G6+G18 -> 5511500 | H21: =+H6+H18 -> 5712344.7 | I21: =+H21/G21*100 -> 103.6441
A23: RASHODI POSLOVANJA PREMA IZVORIMA FINANCIRANJA
A24: Razred | B24: Skupina | C24: Izvor | D24: Naziv rashoda | E24: Izvršenje 2024. | F24: Plan 2025. | G24: Plan za 2026. | H24: Novi plan za 2026. | I24: Indeks novi/izvorni plan
A25: 3 | D25: RASHODI POSLOVANJA | E25: =+E26+E28+E38 -> 4179713.6 | F25: =+F26+F28+F38 -> 4794850.3 | G25: =+G26+G28+G38 -> 4993500 | H25: =+H26+H28+H38+H41 -> 5336252.5 | I25: =+H25/G25*100 -> 106.86397
B26: 31 | D26: Rashodi za zaposlene | E26: =+E27 -> 3694249.9 | F26: =+F27 -> 4360480 | G26: =+G27 -> 4517224 | H26: =+H27 -> 4713000 | I26: =+H26/G26*100 -> 104.33399
C27: 11 | D27: Opći prihodi i primici | E27: =+'POSEBNI DIO'!E21+'POSEBNI DIO'!E33 -> 3694249.9 | F27: =+'POSEBNI DIO'!F21+'POSEBNI DIO'!F33 -> 4360480 | G27: =+'POSEBNI DIO'!G21+'POSEBNI DIO'!G33 -> 4517224 | H27: =+'POSEBNI DIO'!H19+'POSEBNI DIO'!H33 -> 4713000 | I27: =+H27/G27*100 -> 104.33399
B28: 32 | D28: Materijalni rashodi | E28: =+E29+E34+E35+E36+E30+E31+E32+E33 -> 485163.41 | F28: =+F29+F34+F35+F36+F30+F31+F32+F33 -> 433970.3 | G28: =+G29+G34+G35+G36+G30+G31+G32+G33 -> 454076 | H28: =+H29+H34+H35+H36+H30+H31+H32+H33 -> 600872.48 | I28: =+H28/G28*100 -> 132.32861
C29: 11 | D29: Opći prihodi i primici | E29: =+'POSEBNI DIO'!E25+'POSEBNI DIO'!E34 -> 253074.66 | F29: =+'POSEBNI DIO'!F25+'POSEBNI DIO'!F34 -> 206624 | G29: =+'POSEBNI DIO'!G25 -> 210756 | H29: =+'POSEBNI DIO'!H25 -> 210756 | I29: =+H29/G29*100 -> 100
C30: 9231 | D30: Višak prihoda- vlastiti prihodi | E30: =+'POSEBNI DIO'!E54 -> 55000 | F30: =+'POSEBNI DIO'!F52 -> 3614.54 | G30: =+'POSEBNI DIO'!G54 -> 0 | H30: =+'POSEBNI DIO'!H54 -> 95189.73 | I30: 0
C31: 9241 | D31: Višak prihoda- namj prihodi | E31: 0 | F31: =+'POSEBNI DIO'!F55 -> 4051.27 | G31: =+'POSEBNI DIO'!G55 -> 0 | H31: =+'POSEBNI DIO'!H57 -> 7884.76 | I31: 0
C32: 9257 | D32: Višak prihoda pomoći | E32: 0 | F32: 0 | G32: 0 | H32: =+'POSEBNI DIO'!H60 -> 381.99 | I32: 0
C33: 9261 | D33: Višak prihoda donacije | E33: 0 | F33: 0 | G33: 0 | H33: =+'POSEBNI DIO'!H63 -> 25000 | I33: 0
C34: 31 | D34: Vlastiti prihodi | E34: =+'POSEBNI DIO'!E40 -> 152088.75 | F34: =+'POSEBNI DIO'!F40 -> 207180.49 | G34: =+'POSEBNI DIO'!G40 -> 231820 | H34: =+'POSEBNI DIO'!H40 -> 242160 | I34: =+H34/G34*100 -> 104.46036
C35: 41 | D35: Prihodi za posebne namjene | E35: =+'POSEBNI DIO'!E45 -> 25000 | F35: =+'POSEBNI DIO'!F43 -> 10000 | G35: =+'POSEBNI DIO'!G45 -> 10000 | H35: =+'POSEBNI DIO'!H45 -> 18000 | I35: =+H35/G35*100 -> 180
C36: 50 | D36: Pomoći | E36: =+'POSEBNI DIO'!E48 -> 0 | F36: =+'POSEBNI DIO'!F46 -> 2500 | G36: =+'POSEBNI DIO'!G48 -> 1500 | H36: =+'POSEBNI DIO'!H48 -> 1500 | I36: =+H36/G36*100 -> 100
C37: 61 | D37: Donacije | E37: 0 | F37: =+'POSEBNI DIO'!F51 -> 20000 | G37: =+'POSEBNI DIO'!G51 -> 0 | H37: =+'POSEBNI DIO'!H51 -> 0 | I37: 0
B38: 34 | D38: Financijski rashodi | E38: =+E40+E39 -> 300.28 | F38: =+F39+F40 -> 400 | G38: =+G39+G40 -> 22200 | H38: =+H39+H40 -> 22200 | I38: =+H38/G38*100 -> 100
C39: 11 | D39: Opći prihodi i primici | E39: =+'POSEBNI DIO'!E29 -> 165.34 | F39: =+'POSEBNI DIO'!F29 -> 216 | G39: =+'POSEBNI DIO'!G29+'POSEBNI DIO'!G35 -> 22020 | H39: =+'POSEBNI DIO'!H29+'POSEBNI DIO'!H35 -> 22020 | I39: =+H39/G39*100 -> 100
C40: 31 | D40: Vlastiti prihodi | E40: =+'POSEBNI DIO'!E41 -> 134.94 | F40: =+'POSEBNI DIO'!F41 -> 184 | G40: =+'POSEBNI DIO'!G41 -> 180 | H40: =+'POSEBNI DIO'!H41 -> 180 | I40: =+H40/G40*100 -> 100
B41: 38 | D41: Ostali rashodi | E41: =+E42 -> 0 | F41: =+F42 -> 0 | G41: =+G42 -> 0 | H41: =+H42 -> 180 | I41: 0
C42: 31 | D42: Vlastiti prihodi | E42: 0 | F42: 0 | G42: 0 | H42: =+'POSEBNI DIO'!H42 -> 180 | I42: 0
A43: 4 | D43: RASHODI ZA NABAVU NEFINANCIJSKE IMOVINE | E43: =+E48+E44 -> 321615.8 | F43: =+F44+F48 -> 116400 | G43: =+G48+G44 -> 1938000 | H43: =+H48+H44 -> 1991000 | I43: =+H43/G43*100 -> 102.73478
B44: 41 | D44: Rashodi za nabavu neproizvedene dugotrajne imovine | E44: =+E45+E47 -> 255911.29 | F44: =+F46+F47 -> 15500 | G44: =+G46+G47 -> 0 | H44: =+H46+H47 -> 28000 | I44: 0
C45: 11 | D45: Opći prihodi i primici | E45: =+'POSEBNI DIO'!E79 -> 211776.29 | F45: 0 | G45: 0 | H45: =+'POSEBNI DIO'!H81 -> 0 | I45: 0
C46: 31 | D46: Vlastiti prihodi | E46: 0 | F46: =+'POSEBNI DIO'!F67 -> 2000 | G46: =+'POSEBNI DIO'!G67 -> 0 | H46: =+'POSEBNI DIO'!H67 -> 0 | I46: 0
C47: 9231 | D47: Višak prihoda- vlastiti prihodi | E47: =+'POSEBNI DIO'!E71 -> 44135 | F47: =+'POSEBNI DIO'!F71 -> 13500 | G47: =+'POSEBNI DIO'!G71 -> 0 | H47: =+'POSEBNI DIO'!H71 -> 28000 | I47: 0
B48: 42 | D48: Rashodi za nabavu proizvedene dugotrajne imovine | E48: =+E50+E52+E49+E51 -> 65704.51 | F48: =+F50+F52+F49+F53+F51 -> 100900 | G48: =+G52+G49+G51+G53+G54 -> 1938000 | H48: =+H52+H49+H51+H53+H54 -> 1963000 | I48: =+H48/G48*100 -> 101.28999
C49: 9231 | D49: Višak prihoda- vlastiti prihodi | E49: =+'POSEBNI DIO'!E72 -> 20115.08 | F49: =+'POSEBNI DIO'!F72 -> 58100 | G49: =+'POSEBNI DIO'!G72 -> 0 | H49: =+'POSEBNI DIO'!H72 -> 25000 | I49: 0
C50: 41 | D50: Prihodi za posebne namjene | E50: =+'POSEBNI DIO'!E76 -> 0 | F50: 0 | G50: 0 | H50: 0 | I50: 0
C51: 61 | D51: Donacije | E51: =+'POSEBNI DIO'!E73 -> 30175 | F51: =+'POSEBNI DIO'!F73 -> 0 | G51: =+'POSEBNI DIO'!G73 -> 100000 | H51: =+'POSEBNI DIO'!H75 -> 100000 | I51: =+H51/G51*100 -> 100
C52: 31 | D52: Vlastiti prihodi | E52: =+'POSEBNI DIO'!E68 -> 15414.43 | F52: =+'POSEBNI DIO'!F68 -> 42600 | G52: =+'POSEBNI DIO'!G68 -> 38000 | H52: =+'POSEBNI DIO'!H68 -> 37800 | I52: =+H52/G52*100 -> 99.473684
C53: 72 | D53: Prihodi od prodaje nefinancijske imovine | E53: 0 | F53: =+'POSEBNI DIO'!F84 -> 200 | G53: =+'POSEBNI DIO'!G84 -> 0 | H53: =+'POSEBNI DIO'!H84 -> 200 | I53: 0
C54: 81 | D54: Namjenski primici od zaduživanja | E54: 0 | F54: 0 | G54: =+'POSEBNI DIO'!G86 -> 1800000 | H54: =+'POSEBNI DIO'!H88 -> 1800000 | I54: =+H54/G54*100 -> 100
I55: 0
A56: Ukupni rashodi | E56: =+E25+E43 -> 4501329.4 | F56: =+F25+F43 -> 4911250.3 | G56: =+G25+G43 -> 6931500 | H56: =+H25+H43 -> 7327252.5 | I56: =+H56/G56*100 -> 105.70948

Sheet izvori sažetak
A1: PRIJEDLOG IZMJENA I DOPUNA FINANCIJSKOG PLANA JAVNE VATROGASNE POSTROJBE ZADAR ZA 2026. I PROJEKCIJA ZA 2027. I 2028. GODINU | D1: PRIJEDLOG IZMJENA I DOPUNA FINANCIJSKOG PLANA JAVNE VATROGASNE POSTROJBE ZADAR ZA 2026. GODINU
A3: I. OPĆI DIO
A4: A. RAČUN PRIHODA I RASHODA
A6: PRIHODI POSLOVANJA PREMA IZVORIMA FINANCIRANJA
A8: Razred | B8: Skupina | C8: Izvor | D8: Brojčana oznaka i naziv | E8: Izvršenje 2024. | F8: Plan 2025. | G8: Plan za 2026. | H8: Novi plan za 2026. | I8: Indeks novi/izvorni plan
A9: 6 | D9: PRIHODI POSLOVANJA | E9: =+E10+E12+E14+E16+E20+E18 -> 4418880.1 | F9: =+F10+F12+F14+F16+F20+F18 -> 4851984.5 | G9: =+G10+G12+G14+G16+G20+G18 -> 5511500 | H9: =+H10+H12+H14+H16+H20+H18 -> 5712344.7 | I9: =+H9/G9*100 -> 103.6441
B10: 63 | D10: 1 Opći prihodi i primici | E10: =+E11 -> 4173109.6 | F10: =+F11 -> 4569284.5 | G10: =+G11 -> 5130000 | H10: =+H11 -> 5312324.7 | I10: =+H10/G10*100 -> 103.55409
C11: 57 | D11: 11 Opći prihodi i primici | E11: =+'Prihodi i rashodi prema izvorim'!E15 -> 4173109.6 | F11: =+'Prihodi i rashodi prema izvorim'!F15 -> 4569284.5 | G11: =+'Prihodi i rashodi prema izvorim'!G15 -> 5130000 | H11: =+'POSEBNI DIO'!H8+366548.69 -> 5312324.7 | I11: =+H11/G11*100 -> 103.55409
B12: 65 | D12: 3 Vlastiti prihodi | E12: =+E13 -> 185528.83 | F12: =+F13 -> 250000 | G12: =+G13 -> 270000 | H12: =+H13 -> 280320 | I12: =+H12/G12*100 -> 103.82222
C13: 41 | D13: 31 Vlastiti prihodi | E13: =+'Prihodi i rashodi prema izvorim'!E12+'Prihodi i rashodi prema izvorim'!E17 -> 185528.83 | F13: =+'Prihodi i rashodi prema izvorim'!F12+'Prihodi i rashodi prema izvorim'!F17 -> 250000 | G13: =+'Prihodi i rashodi prema izvorim'!G12+'Prihodi i rashodi prema izvorim'!G17 -> 270000 | H13: =+'POSEBNI DIO'!H9 -> 280320 | I13: =+H13/G13*100 -> 103.82222
B14: 66 | D14: 4 Prihodi za posebne namjene | E14: =+E15 -> 29051.27 | F14: =+F15 -> 10000 | G14: =+G15 -> 10000 | H14: =+H15 -> 18000 | I14: =+H14/G14*100 -> 180
C15: 31 | D15: 43 Ostali prihodi za posebne namjene | E15: =+'Prihodi i rashodi prema izvorim'!E10 -> 29051.27 | F15: =+'Prihodi i rashodi prema izvorim'!F10 -> 10000 | G15: =+'Prihodi i rashodi prema izvorim'!G10 -> 10000 | H15: =+'POSEBNI DIO'!H10 -> 18000 | I15: =+H15/G15*100 -> 180
B16: 67 | D16: 5 Pomoći | E16: =+E17 -> 1015.45 | F16: =+F17 -> 2500 | G16: =+G17 -> 1500 | H16: =+H17 -> 1500 | I16: =+H16/G16*100 -> 100
C17: 11 | D17: 57 Pomoći korisnici | E17: =+'Prihodi i rashodi prema izvorim'!E8 -> 1015.45 | F17: =+'Prihodi i rashodi prema izvorim'!F8 -> 2500 | G17: =+'Prihodi i rashodi prema izvorim'!G8 -> 1500 | H17: =+'POSEBNI DIO'!H11 -> 1500 | I17: =+H17/G17*100 -> 100
D18: 6 Donacije | E18: =+E19 -> 30175 | F18: =+F19 -> 20000 | G18: =+G19 -> 100000 | H18: =+H19 -> 100000 | I18: =+H18/G18*100 -> 100
C19: 6103 | D19: 6103 Donacije - proračunski korisnici | E19: =+'Prihodi i rashodi prema izvorim'!E13 -> 30175 | F19: =+'Prihodi i rashodi prema izvorim'!F13 -> 20000 | G19: =+'Prihodi i rashodi prema izvorim'!G13 -> 100000 | H19: =+'POSEBNI DIO'!H12 -> 100000 | I19: =+H19/G19*100 -> 100
B20: 72 | D20: 7 Prihodi od prodaje ili zamjene nefinancijske imovine i naknade s naslova osiguranja | E20: =+E21 -> 0 | F20: =+F21 -> 200 | G20: =+G21 -> 0 | H20: =+H21 -> 200 | I20: 0
C21: 72 | D21: 72 Prihodi od prodaje nefinancijske imovine | E21: =+'Prihodi i rashodi prema izvorim'!E20 -> 0 | F21: 200 | G21: =+'POSEBNI DIO'!G82 -> 0 | H21: =+'POSEBNI DIO'!H13 -> 200 | I21: 0
A29: RASHODI POSLOVANJA PREMA IZVORIMA FINANCIRANJA
A31: Razred | B31: Skupina | C31: Izvor | D31: Brojčana oznaka i naziv | E31: Izvršenje 2024. | F31: Plan 2025. | G31: Plan za 2026. | H31: Novi plan za 2026. | I31: Indeks novi/izvorni plan
A32: 3 | D32: RASHODI POSLOVANJA | E32: =+E33+E35+E37+E39+E41+E43+E45+E47 -> 4501329.4 | F32: =+F33+F35+F37+F39+F41+F43+F45+F47 -> 4931250.3 | G32: =+G33+G35+G37+G39+G41+G43+G45+G47 -> 6931500 | H32: =+H33+H35+H37+H39+H41+H43+H45+H47 -> 7327252.5 | I32: =+H32/G32*100 -> 105.70948
B33: 63 | D33: 1 Opći prihodi i primici | E33: =+E34 -> 4159266.2 | F33: =+F34 -> 4567320 | G33: =+G34 -> 4750000 | H33: =+H34 -> 4945776 | I33: =+H33/G33*100 -> 104.1216
C34: 57 | D34: 11 Opći prihodi i primici | E34: =+'Prihodi i rashodi prema izvorim'!E27+'Prihodi i rashodi prema izvorim'!E29+'Prihodi i rashodi prema izvorim'!E39+'Prihodi i rashodi prema izvorim'!E45 -> 4159266.2 | F34: =+'Prihodi i rashodi prema izvorim'!F27+'Prihodi i rashodi prema izvorim'!F29+'Prihodi i rashodi prema izvorim'!F39+'Prihodi i rashodi prema izvorim'!F45 -> 4567320 | G34: =+'Prihodi i rashodi prema izvorim'!G27+'Prihodi i rashodi prema izvorim'!G29+'Prihodi i rashodi prema izvorim'!G39+'Prihodi i rashodi prema izvorim'!G45 -> 4750000 | H34: =+'POSEBNI DIO'!H8 -> 4945776 | I34: =+H34/G34*100 -> 104.1216
B35: 65 | D35: 3 Vlastiti prihodi | E35: =+E36 -> 167638.12 | F35: =+F36 -> 251964.49 | G35: =+G36 -> 270000 | H35: =+H36 -> 280320 | I35: =+H35/G35*100 -> 103.82222
C36: 41 | D36: 31 Vlastiti prihodi | E36: =+'Prihodi i rashodi prema izvorim'!E34+'Prihodi i rashodi prema izvorim'!E40+'Prihodi i rashodi prema izvorim'!E46+'Prihodi i rashodi prema izvorim'!E52 -> 167638.12 | F36: =+'Prihodi i rashodi prema izvorim'!F34+'Prihodi i rashodi prema izvorim'!F40+'Prihodi i rashodi prema izvorim'!F46+'Prihodi i rashodi prema izvorim'!F52 -> 251964.49 | G36: =+'Prihodi i rashodi prema izvorim'!G34+'Prihodi i rashodi prema izvorim'!G40+'Prihodi i rashodi prema izvorim'!G46+'Prihodi i rashodi prema izvorim'!G52 -> 270000 | H36: =+'POSEBNI DIO'!H9 -> 280320 | I36: =+H36/G36*100 -> 103.82222
B37: 66 | D37: 4 Prihodi za posebne namjene | E37: =+E38 -> 25000 | F37: =+F38 -> 10000 | G37: =+G38 -> 10000 | H37: =+H38 -> 18000 | I37: =+H37/G37*100 -> 180
C38: 31 | D38: 41 Ostali prihodi za posebne namjene | E38: =+'Prihodi i rashodi prema izvorim'!E35+'Prihodi i rashodi prema izvorim'!E50 -> 25000 | F38: =+'Prihodi i rashodi prema izvorim'!F35+'Prihodi i rashodi prema izvorim'!F50 -> 10000 | G38: =+'Prihodi i rashodi prema izvorim'!G35+'Prihodi i rashodi prema izvorim'!G50 -> 10000 | H38: =+'POSEBNI DIO'!H10 -> 18000 | I38: =+H38/G38*100 -> 180
B39: 67 | D39: 5 Pomoći | E39: =+E40 -> 0 | F39: =+F40 -> 2500 | G39: =+G40 -> 1500 | H39: =+H40 -> 1500 | I39: =+H39/G39*100 -> 100
C40: 11 | D40: 57 Pomoći korisnici | E40: =+'Prihodi i rashodi prema izvorim'!E36 -> 0 | F40: =+'Prihodi i rashodi prema izvorim'!F36 -> 2500 | G40: =+'Prihodi i rashodi prema izvorim'!G36 -> 1500 | H40: =+'POSEBNI DIO'!H11 -> 1500 | I40: =+H40/G40*100 -> 100
D41: 6 Donacije | E41: =+E42 -> 30175 | F41: =+F42 -> 20000 | G41: =+G42 -> 100000 | H41: =+H42 -> 100000 | I41: =+H41/G41*100 -> 100
C42: 6103 | D42: 6103 Donacije - proračunski korisnici | E42: =+'Prihodi i rashodi prema izvorim'!E37+'Prihodi i rashodi prema izvorim'!E51 -> 30175 | F42: =+'Prihodi i rashodi prema izvorim'!F37+'Prihodi i rashodi prema izvorim'!F51 -> 20000 | G42: =+'Prihodi i rashodi prema izvorim'!G37+'Prihodi i rashodi prema izvorim'!G51 -> 100000 | H42: =+'POSEBNI DIO'!H12 -> 100000 | I42: =+H42/G42*100 -> 100
B43: 72 | D43: 7 Prihodi od prodaje ili zamjene nefinancijske imovine i naknade s naslova osiguranja | E43: =+E44 -> 0 | F43: =+F44 -> 200 | G43: =+G44 -> 0 | H43: =+H44 -> 200 | I43: 0
C44: 72 | D44: 72 Prihodi od prodaje nefinancijske imovine | E44: =+'Prihodi i rashodi prema izvorim'!E53 -> 0 | F44: =+'Prihodi i rashodi prema izvorim'!F53 -> 200 | G44: =+'Prihodi i rashodi prema izvorim'!G53 -> 0 | H44: =+'POSEBNI DIO'!H13 -> 200 | I44: 0
B45: 72 | D45: 8 Namjenski primici | E45: =+E46 -> 0 | F45: =+F46 -> 0 | G45: =+G46 -> 1800000 | H45: =+H46 -> 1800000 | I45: =+H45/G45*100 -> 100
C46: 72 | D46: 81 Namjenski primici | E46: =+'Prihodi i rashodi prema izvorim'!E54 -> 0 | F46: =+'Prihodi i rashodi prema izvorim'!F54 -> 0 | G46: =+'Prihodi i rashodi prema izvorim'!G54 -> 1800000 | H46: =+'POSEBNI DIO'!H14 -> 1800000 | I46: =+H46/G46*100 -> 100
B47: 72 | D47: 9 Višak prihoda | E47: =+E48+E49+E50+E51 -> 119250.08 | F47: =+F48+F49+F50+F51 -> 79265.81 | G47: =+G48+G49+G50+G51 -> 0 | H47: =+H48+H49+H50+H51 -> 181456.48 | I47: 0
D48: 9231 Višak prihoda vlastite djelatnosti | E48: =+'Prihodi i rashodi prema izvorim'!E30+'Prihodi i rashodi prema izvorim'!E47+'Prihodi i rashodi prema izvorim'!E49 -> 119250.08 | F48: =+'Prihodi i rashodi prema izvorim'!F30+'Prihodi i rashodi prema izvorim'!F47+'Prihodi i rashodi prema izvorim'!F49 -> 75214.54 | G48: =+'Prihodi i rashodi prema izvorim'!G30+'Prihodi i rashodi prema izvorim'!G47+'Prihodi i rashodi prema izvorim'!G49 -> 0 | H48: =+'POSEBNI DIO'!H52+'POSEBNI DIO'!H69 -> 148189.73 | I48: 0
C49: 72 | D49: 9241 Višak prihoda od posebne namjene | E49: =+'Prihodi i rashodi prema izvorim'!E31 -> 0 | F49: =+'Prihodi i rashodi prema izvorim'!F31 -> 4051.27 | G49: =+'Prihodi i rashodi prema izvorim'!G31 -> 0 | H49: =+'POSEBNI DIO'!H55 -> 7884.76 | I49: 0
D50: 9257 Višak prihoda pomoći | E50: 0 | F50: 0 | G50: 0 | H50: =+'POSEBNI DIO'!H58 -> 381.99 | I50: 0
C51: 72 | D51: 9241 Višak prihoda donacije | E51: 0 | F51: 0 | G51: 0 | H51: =+'POSEBNI DIO'!H61 -> 25000 | I51: 0

Sheet Rashodi prema funkc. klas
A1: PRIJEDLOG IZMJENA I DOPUNA FINANCIJSKOG PLANA JAVNE VATROGASNE POSTROJBE ZADAR ZA 2026. GODINU
A3: I. OPĆI DIO
A5: A. RAČUN PRIHODA I RASHODA
A7: RASHODI PREMA FUNKCIJSKOJ KLASIFIKACIJI
A9: BROJČANA OZNAKA I NAZIV | B9: Izvršenje 2024. | C9: Plan 2025. | D9: Plan za 2026. | E9: Novi plan za 2026. | F9: Indeks novi/izvorni plan
A10: UKUPNI RASHODI | B10: =+B11 -> 4501329.4 | C10: =+C11 -> 4931250.3 | D10: =+D11 -> 6931500 | E10: =+E11 -> 7327252.5 | F10: =+E10/D10*100 -> 105.70948
A11: 03 Javni red i sigurnost | B11: =+B12 -> 4501329.4 | C11: =+C12 -> 4931250.3 | D11: =+D12 -> 6931500 | E11: =+E12 -> 7327252.5 | F11: =+E11/D11*100 -> 105.70948
A12: 032 Usluge protupožarne zaštite | B12: =+'POSEBNI DIO'!E17 -> 4501329.4 | C12: =+'POSEBNI DIO'!F17 -> 4931250.3 | D12: =+'Prihodi i rashodi prema izvorim'!G56 -> 6931500 | E12: =+'POSEBNI DIO'!H17 -> 7327252.5 | F12: =+E12/D12*100 -> 105.70948

Sheet Račun financiranja
A1: PRIJEDLOG IZMJENA I DOPUNA FINANCIJSKOG PLANA JAVNE VATROGASNE POSTROJBE ZADAR ZA 2026. GODINU
A3: I. OPĆI DIO
A5: B. RAČUN FINANCIRANJA PREMA EKONOMSKOJ KLASIFIKACIJI I IZVORIMA FINANCIRANJA
A7: Razred | B7: Skupina | C7: Izvor | D7: Naziv | E7: Izvršenje 2024. | F7: Plan 2025. | G7: Plan za 2026. | H7: Novi plan za 2026. | I7: Indeks novi/izvorni plan
A8: 8 | D8: Primici od financijske imovine i zaduživanja | E8: 0 | F8: 0 | G8: =+G9 -> 1800000 | H8: =+H9 -> 1800000 | I8: =+H8/G8*100 -> 100
B9: 84 | D9: Primici od zaduživanja | E9: 0 | F9: 0 | G9: =+G10 -> 1800000 | H9: =+H10 -> 1800000 | I9: =+H9/G9*100 -> 100
C10: 81 | D10: Namjenski primici od zaduživanja | E10: 0 | F10: 0 | G10: 1800000 | H10: 1800000 | I10: =+H10/G10*100 -> 100
A11: 5 | D11: Izdaci za financijsku imovinu i otplate zajmova | E11: 0 | F11: 0 | G11: =+G12 -> 0 | H11: =+H12 -> 0 | I11: 0
B12: 54 | D12: Izdaci za otplatu glavnice primljenih kredita i zajmova | E12: 0 | F12: 0 | G12: =+G13 -> 0 | H12: =+H13 -> 0 | I12: 0
C13: 11 | D13: Opći prihodi i primici | E13: 0 | F13: 0 | G13: =+'POSEBNI DIO'!G37 -> 0 | H13: =+'POSEBNI DIO'!H37 -> 0 | I13: 0

Sheet POSEBNI DIO
A1: PRIJEDLOG IZMJENA I DOPUNA FINANCIJSKOG PLANA JAVNE VATROGASNE POSTROJBE ZADAR ZA 2026. GODINU
A3: II. POSEBNI DIO
A5: Šifra | D5: Naziv | E5: Izvršenje 2024. | F5: Plan 2025. | G5: Plan za 2026. | H5: Novi plan za 2026. | I5: Indeks novi/izvorni plan
A6: RKP: 36022 | D6: JAVNA VATROGASNA POSTROJBA ZADAR
D7: IZVORI FINANCIRANJA UKUPNO | E7: =+E8+E9+E10+E11+E12+E13+E14+E15 -> 4501329.4 | F7: =+F8+F9+F10+F11+F12+F13+F14+F15 -> 4931250.3 | G7: =+G8+G9+G10+G11+G12+G13+G14+G15 -> 6931500 | H7: =+H8+H9+H10+H11+H12+H13+H14+H15 -> 7327252.5 | I7: =+H7/G7*100 -> 105.70948
A8: 11 | D8: OPĆI PRIHODI I PRIMICI | E8: =+E19+E23+E31+E27+E79 -> 4159266.2 | F8: =+F19+F23+F31+F27 -> 4567320 | G8: =+G19+G23+G31+G27 -> 4750000 | H8: =+H19+H23+H31+H27 -> 4945776 | I8: =+H8/G8*100 -> 104.1216
A9: 31 | D9: VLASTITI PRIHODI | E9: =+E38+E65 -> 167638.12 | F9: =+F38+F65 -> 251964.49 | G9: =+G38+G65 -> 270000 | H9: =+H38+H65 -> 280320 | I9: =+H9/G9*100 -> 103.82222
A10: 41 | D10: OSTALI PRIHODI ZA POSEBNE NAMJENE | E10: =+E43 -> 25000 | F10: =+F43 -> 10000 | G10: =+G43 -> 10000 | H10: =+H43 -> 18000 | I10: =+H10/G10*100 -> 180
A11: 50 | D11: POMOĆI IZ DRŽAVNOG PRORAČUNA | E11: =+E46 -> 0 | F11: =+F46 -> 2500 | G11: =+G46 -> 1500 | H11: =+H46 -> 1500 | I11: =+H11/G11*100 -> 100
A12: 61 | D12: DONACIJE | E12: =+E49+E73 -> 30175 | F12: =+F49+F73 -> 20000 | G12: =+G49+G73 -> 100000 | H12: =+H49+H73 -> 100000 | I12: =+H12/G12*100 -> 100
A13: 72 | D13: PRIHODI OD PRODAJE ILI ZAMJENE NEFINANCIJSKE IMOVINE I NAKNADE S NASLOVA OSIGURANJA | E13: =+E82 -> 0 | F13: =+F82 -> 200 | G13: =+G82 -> 0 | H13: =+H82 -> 200 | I13: 0
A14: 81 | D14: NAMJENSKI PRIMICI OD ZADUŽIVANJA | E14: =+E86 -> 0 | F14: =+F86 -> 0 | G14: =+G86 -> 1800000 | H14: =+H86 -> 1800000 | I14: =+H14/G14*100 -> 100
A15: 92 | D15: VIŠAK PRIHODA | E15: =+E52+E55+E69 -> 119250.08 | F15: =+F52+F55+F69 -> 79265.81 | G15: =+G52+G55+G69 -> 0 | H15: =+H52+H55+H58+H61+H69 -> 181456.48 | I15: 0
A17: PROGRAM 1046 | D17: REDOVNA DJELATNOST JVP ZADAR | E17: =+E18+E22+E26+E30+E64 -> 4501329.4 | F17: =+F18+F22+F26+F30+F64+F85 -> 4931250.3 | G17: =+G18+G22+G26+G30+G64+G85 -> 6931500 | H17: =+H18+H22+H26+H30+H64+H85 -> 7327252.5 | I17: =+H17/G17*100 -> 105.70948
A18: Aktivnost A104601 | D18: Rashodi za zaposlene standard | E18: =+E19 -> 1770069.3 | F18: =+F19 -> 1893131 | G18: =+G19 -> 1930994 | H18: =+H19 -> 1896344 | I18: =+H18/G18*100 -> 98.205587
A19: Izvor financiranja 11 | D19: Opći prihodi i primici | E19: =+E20 -> 1770069.3 | F19: =+F20 -> 1893131 | G19: =+G20 -> 1930994 | H19: =+H20 -> 1896344 | I19: =+H19/G19*100 -> 98.205587
A20: 3 | D20: Rashodi poslovanja | E20: =+E21 -> 1770069.3 | F20: =+F21 -> 1893131 | G20: =+G21 -> 1930994 | H20: =+H21 -> 1896344 | I20: =+H20/G20*100 -> 98.205587
A21: 31 | D21: Rashodi za zaposlene | E21: 1770069.3 | F21: 1893131 | G21: 1930994 | H21: 1896344 | I21: =+H21/G21*100 -> 98.205587
A22: Aktivnost A104602 | D22: Materijalni rashodi - standard | E22: =+E24 -> 192114.66 | F22: =+F23 -> 206624 | G22: =+G23 -> 210756 | H22: =+H23 -> 210756 | I22: =+H22/G22*100 -> 100
A23: Izvor financiranja 11 | D23: Opći prihodi i primici | E23: =+E24 -> 192114.66 | F23: =+F24 -> 206624 | G23: =+G24 -> 210756 | H23: =+H24 -> 210756 | I23: =+H23/G23*100 -> 100
A24: 3 | D24: Rashodi poslovanja | E24: =+E25 -> 192114.66 | F24: =+F25 -> 206624 | G24: =+G25 -> 210756 | H24: =+H25 -> 210756 | I24: =+H24/G24*100 -> 100
A25: 32 | D25: Materijalni rashodi | E25: 192114.66 | F25: 206624 | G25: 210756 | H25: 210756 | I25: =+H25/G25*100 -> 100
A26: Aktivnost A104603 | D26: Financijski rashodi - standard | E26: =+E27 -> 165.34 | F26: =+F27 -> 216 | G26: =+G27 -> 220 | H26: =+H27 -> 220 | I26: =+H26/G26*100 -> 100
A27: Izvor financiranja 11 | D27: Opći prihodi i primici | E27: =+E28 -> 165.34 | F27: =+F28 -> 216 | G27: =+G28 -> 220 | H27: =+H28 -> 220 | I27: =+H27/G27*100 -> 100
A28: 3 | D28: Rashodi poslovanja | E28: =+E29 -> 165.34 | F28: =+F29 -> 216 | G28: =+G29 -> 220 | H28: =+H29 -> 220 | I28: =+H28/G28*100 -> 100
A29: 34 | D29: Financijski rashodi | E29: 165.34 | F29: 216 | G29: 220 | H29: 220 | I29: =+H29/G29*100 -> 100
A30: Aktivnost A104604 | D30: Redovna djelatnost JVP Zadar - izvanstandard | E30: =+E31+E38+E43+E46+E52 -> 2217364.3 | F30: =+F31+F38+F43+F52+F46+F55+F49 -> 2714879.3 | G30: =+G31+G38+G43+G52+G46+G49+G55 -> 2851530 | H30: =+H31+H38+H43+H52+H46+H49+H55+H58+H61 -> 3228932.5 | I30: =+H30/G30*100 -> 113.23509
A31: Izvor financiranja 11 | D31: Opći prihodi i primici | E31: =+E32 -> 1985140.6 | F31: =+F32 -> 2467349 | G31: =+G32+G36+G35 -> 2608030 | H31: =+H32+H36+H35 -> 2838456 | I31: =+H31/G31*100 -> 108.83525
A32: 3 | D32: Rashodi poslovanja | E32: =+E33+E34 -> 1985140.6 | F32: =+F33+F34 -> 2467349 | G32: =+G33+G34 -> 2586230 | H32: =+H33+H34 -> 2816656 | I32: =+H32/G32*100 -> 108.90973
A33: 31 | D33: Rashodi za zaposlene | E33: 1924180.6 | F33: 2467349 | G33: =2608030-21800 -> 2586230 | H33: 2816656 | I33: =+H33/G33*100 -> 108.90973
A34: 32 | D34: Materijalni rashodi | E34: 60960 | F34: 0 | G34: 0 | H34: 0 | I34: 0
A35: 34 | D35: Financijski rashodi | E35: 0 | G35: =3600+18200 -> 21800 | H35: =3600+18200 -> 21800 | I35: =+H35/G35*100 -> 100
A36: 5 | D36: Izdaci za financijsku imovinu i otplate zajmova | E36: =+E37 -> 0 | F36: =+F37 -> 0 | G36: =+G37 -> 0 | H36: =+H37 -> 0 | I36: 0
A37: 54 | D37: Izdaci za otplate glavnice primljenih kredita i zajmova | E37: 0 | G37: 0 | H37: 0 | I37: 0
A38: Izvor financiranja 31 | D38: Vlastiti prihodi | E38: =+E39 -> 152223.69 | F38: =+F39 -> 207364.49 | G38: =+G39 -> 232000 | H38: =+H39 -> 242520 | I38: =+H38/G38*100 -> 104.53448
A39: 3 | D39: Rashodi poslovanja | E39: =+E40+E41+E42 -> 152223.69 | F39: =+F40+F41+F42 -> 207364.49 | G39: =+G40+G41+G42 -> 232000 | H39: =+H40+H41+H42 -> 242520 | I39: =+H39/G39*100 -> 104.53448
A40: 32 | D40: Materijalni rashodi | E40: 152088.75 | F40: 207180.49 | G40: 231820 | H40: 242160 | I40: =+H40/G40*100 -> 104.46036
A41: 34 | D41: Financijski rashodi | E41: 134.94 | F41: 184 | G41: 180 | H41: 180 | I41: =+H41/G41*100 -> 100
A42: 38 | D42: Ostali rashodi | E42: 0 | F42: 0 | G42: 0 | H42: 180 | I42: 0
A43: Izvor financiranja 41 | D43: Ostali prihodi za posebne namjene | E43: =+E44 -> 25000 | F43: =+F44 -> 10000 | G43: =+G44 -> 10000 | H43: =+H44 -> 18000 | I43: =+H43/G43*100 -> 180
A44: 3 | D44: Rashodi poslovanja | E44: =+E45 -> 25000 | F44: =+F45 -> 10000 | G44: =+G45 -> 10000 | H44: =+H45 -> 18000 | I44: =+H44/G44*100 -> 180
A45: 32 | D45: Materijalni rashodi | E45: 25000 | F45: 10000 | G45: 10000 | H45: 18000 | I45: =+H45/G45*100 -> 180
A46: Izvor financiranja 50 | D46: Pomoći iz državnog proračuna | E46: =+E47 -> 0 | F46: =+F47 -> 2500 | G46: =+G47 -> 1500 | H46: =+H47 -> 1500 | I46: =+H46/G46*100 -> 100
A47: 3 | D47: Rashodi poslovanja | E47: =+E48 -> 0 | F47: =+F48 -> 2500 | G47: =+G48 -> 1500 | H47: =+H48 -> 1500 | I47: =+H47/G47*100 -> 100
A48: 32 | D48: Materijalni rashodi | E48: 0 | F48: 2500 | G48: 1500 | H48: 1500 | I48: =+H48/G48*100 -> 100
A49: Izvor financiranja 61 | D49: Donacije | E49: =+E50 -> 0 | F49: =+F50 -> 20000 | G49: =+G50 -> 0 | H49: =+H50 -> 0 | I49: 0
A50: 3 | D50: Rashodi poslovanja | E50: =+E51 -> 0 | F50: =+F51 -> 20000 | G50: =+G51 -> 0 | H50: =+H51 -> 0 | I50: 0
A51: 32 | D51: Materijalni rashodi | E51: 0 | F51: 20000 | G51: 0 | H51: 0 | I51: 0
A52: Izvor financiranja 9231 | D52: Višak prihoda - vlastiti prihodi | E52: =+E53 -> 55000 | F52: =+F53 -> 3614.54 | G52: =+G53 -> 0 | H52: =+H53 -> 95189.73 | I52: 0
A53: 3 | D53: Rashodi poslovanja | E53: =+E54 -> 55000 | F53: =+F54 -> 3614.54 | G53: =+G54 -> 0 | H53: =+H54 -> 95189.73 | I53: 0
A54: 32 | D54: Materijalni rashodi | E54: 55000 | F54: 3614.54 | G54: 0 | H54: =128456.48-7884.76-381.99-25000 -> 95189.73 | I54: 0
A55: Izvor financiranja 9241 | D55: Višak prihoda - namjenski prihodi | E55: =+E56 -> 0 | F55: =+F56 -> 4051.27 | G55: =+G56 -> 0 | H55: =+H56 -> 7884.76 | I55: 0
A56: 3 | D56: Rashodi poslovanja | E56: =+E57 -> 0 | F56: =+F57 -> 4051.27 | G56: =+G57 -> 0 | H56: =+H57 -> 7884.76 | I56: 0
A57: 32 | D57: Materijalni rashodi | E57: 0 | F57: 4051.27 | G57: 0 | H57: 7884.76 | I57: 0
A58: Izvor financiranja 9257 | D58: Višak prihoda - pomoći | E58: =+E59 -> 55000 | F58: =+F59 -> 3614.54 | G58: =+G59 -> 0 | H58: =+H59 -> 381.99 | I58: 0
A59: 3 | D59: Rashodi poslovanja | E59: =+E60 -> 55000 | F59: =+F60 -> 3614.54 | G59: =+G60 -> 0 | H59: =+H60 -> 381.99 | I59: 0
A60: 32 | D60: Materijalni rashodi | E60: 55000 | F60: 3614.54 | G60: 0 | H60: 381.99 | I60: 0
A61: Izvor financiranja 9261 | D61: Višak prihoda - donacije | E61: =+E62 -> 0 | F61: =+F62 -> 4051.27 | G61: =+G62 -> 0 | H61: =+H62 -> 25000 | I61: 0
A62: 3 | D62: Rashodi poslovanja | E62: =+E63 -> 0 | F62: =+F63 -> 4051.27 | G62: =+G63 -> 0 | H62: =+H63 -> 25000 | I62: 0
A63: 32 | D63: Materijalni rashodi | E63: 0 | F63: 4051.27 | G63: 0 | H63: 25000 | I63: 0
A64: Kapitalni projekt K104606 | D64: Kapitalni rashodi JVP Zadar - izvanstandard | E64: =+E65+E69+E76+E79+E73 -> 321615.8 | F64: =+F65+F69+F76+F79+F73+F82 -> 116400 | G64: =+G65+G69+G76+G79+G82+G73 -> 138000 | H64: =+H65+H69+H76+H79+H82+H73 -> 191000 | I64: =+H64/G64*100 -> 138.4058
A65: Izvor financiranja 31 | D65: Vlastiti prihodi | E65: =+E66 -> 15414.43 | F65: =+F66 -> 44600 | G65: =+G66 -> 38000 | H65: =+H66 -> 37800 | I65: =+H65/G65*100 -> 99.473684
A66: 4 | D66: Rashodi za nabavu nefinancijske imovine | E66: =+E68 -> 15414.43 | F66: =+F68+F67 -> 44600 | G66: =+G68+G67 -> 38000 | H66: =+H68+H67 -> 37800 | I66: =+H66/G66*100 -> 99.473684
A67: 41 | D67: Rashodi za nabavu neproizvedene dugotrajne imovine | E67: 0 | F67: 2000 | G67: 0 | H67: 0 | I67: 0
A68: 42 | D68: Rashodi za nabavu proizvedene dugotrajne imovine | E68: 15414.43 | F68: 42600 | G68: 38000 | H68: 37800 | I68: =+H68/G68*100 -> 99.473684
A69: Izvor financiranja 9231 | D69: Višak prihoda - vlastiti prihodi | E69: =+E70 -> 64250.08 | F69: =+F70 -> 71600 | G69: =+G70 -> 0 | H69: =+H70 -> 53000 | I69: 0
A70: 4 | D70: Rashodi za nabavu nefinancijske imovine | E70: =+E72+E71 -> 64250.08 | F70: =+F71+F72 -> 71600 | G70: =+G72+G71 -> 0 | H70: =+H72+H71 -> 53000 | I70: 0
A71: 41 | D71: Rashodi za nabavu neproizvedene dugotrajne imovine | E71: 44135 | F71: 13500 | G71: 0 | H71: 28000 | I71: 0
A72: 42 | D72: Rashodi za nabavu proizvedene dugotrajne imovine | E72: 20115.08 | F72: 58100 | G72: 0 | H72: 25000 | I72: 0
A73: Izvor financiranja 61 | D73: Donacije | E73: =+E74 -> 30175 | F73: =+F74 -> 0 | G73: =+G74 -> 100000 | H73: =+H74 -> 100000 | I73: =+H73/G73*100 -> 100
A74: 4 | D74: Rashodi za nabavu nefinancijske imovine | E74: =+E75 -> 30175 | F74: =+F75 -> 0 | G74: =+G75 -> 100000 | H74: =+H75 -> 100000 | I74: =+H74/G74*100 -> 100
A75: 42 | D75: Rashodi za nabavu proizvedene dugotrajne imovine | E75: 30175 | F75: 0 | G75: 100000 | H75: 100000 | I75: =+H75/G75*100 -> 100
A76: Izvor financiranja 50 | D76: Pomoći iz državnog proračuna | E76: =+E77 -> 0 | F76: =+F77 -> 0 | G76: =+G77 -> 0 | H76: =+H77 -> 0 | I76: 0
A77: 4 | D77: Rashodi za nabavu nefinancijske imovine | E77: =+E78 -> 0 | F77: =+F78 -> 0 | G77: =+G78 -> 0 | H77: =+H78 -> 0 | I77: 0
A78: 42 | D78: Rashodi za nabavu proizvedene dugotrajne imovine | E78: 0 | F78: 0 | G78: 0 | H78: 0 | I78: 0
A79: Izvor financiranja 11 | D79: Opći prihodi i primici | E79: =+E80 -> 211776.29 | F79: =+F80 -> 0 | G79: =+G80 -> 0 | H79: =+H80 -> 0 | I79: 0
A80: 4 | D80: Rashodi za nabavu nefinancijske imovine | E80: =+E81 -> 211776.29 | F80: =+F81 -> 0 | G80: =+G81 -> 0 | H80: =+H81 -> 0 | I80: 0
A81: 41 | D81: Rashodi za nabavu neproizvedene dugotrajne imovine | E81: 211776.29 | F81: 0 | G81: 0 | H81: 0 | I81: 0
A82: Izvor financiranja 72 | D82: Prihodi od prodaje nefinancijske imovine | E82: =+E83 -> 0 | F82: =+F83 -> 200 | G82: =+G83 -> 0 | H82: =+H83 -> 200 | I82: 0
A83: 4 | D83: Rashodi za nabavu nefinancijske imovine | E83: =+E84 -> 0 | F83: =+F84 -> 200 | G83: =+G84 -> 0 | H83: =+H84 -> 200 | I83: 0
A84: 42 | D84: Rashodi za nabavu proizvedene dugotrajne imovine | E84: 0 | F84: 200 | G84: 0 | H84: 200 | I84: 0
A85: Tekući projekt T104605 | D85: Kapitalni rashodi JVP Zadar - Nabava vatrogasnih vozila | E85: =+E86 -> 0 | F85: =+F86 -> 0 | G85: =+G86 -> 1800000 | H85: =+H86 -> 1800000 | I85: =+H85/G85*100 -> 100
A86: Izvor financiranja 81 | D86: Namjenski primici od zaduživanja | E86: =+E87 -> 0 | F86: =+F87 -> 0 | G86: =+G87 -> 1800000 | H86: =+H87 -> 1800000 | I86: =+H86/G86*100 -> 100
A87: 4 | D87: Rashodi za nabavu nefinancijske imovine | E87: =+E88 -> 0 | F87: =+F88 -> 0 | G87: =+G88 -> 1800000 | H87: =+H88 -> 1800000 | I87: =+H87/G87*100 -> 100
A88: 42 | D88: Rashodi za nabavu proizvedene dugotrajne imovine | G88: 1800000 | H88: 1800000 | I88: =+H88/G88*100 -> 100

Sheet ZADNJA  
D5: Članak 2.
A8: Ovaj Prijedlog izmjena i dopuna financijskog plana Javne vatrogasne postrojbe Zadar za 2026. godinu
A9: dostavlja se Gradu Zadru na daljnje postupanje sukladno gore navedenom Zakonu o proračunu.
A10: Ukoliko se usvojenim proračunom ne izmijeni ovakav predloženi financijski plan isti se smatra konačnim
A11: financijskim planom i stupa na snagu sukladno odredbama Odluke Gradskog vijeća Grada Zadra te će se objaviti
A12: na mrežnim stranicama Javne vatrogasne postrojbe Zadar.
B15: Klasa: 400-01/25-01/02
B16: Ur.br.: 2198-1-121-26-8
B17: Zadar, 18. svibnja 2026. godine
D18: PREDSJEDNIK VATROGASNOG VIJEĆA
D19: Željko Šoša

Sheet List2
